BEGIN:VCALENDAR
VERSION:2.0
PRODID:-//Visit Central Florida Sports - ECPv6.15.20//NONSGML v1.0//EN
CALSCALE:GREGORIAN
METHOD:PUBLISH
X-WR-CALNAME:Visit Central Florida Sports
X-ORIGINAL-URL:https://visitcentralfloridasports.com
X-WR-CALDESC:Events for Visit Central Florida Sports
REFRESH-INTERVAL;VALUE=DURATION:PT1H
X-Robots-Tag:noindex
X-PUBLISHED-TTL:PT1H
BEGIN:VTIMEZONE
TZID:UTC
BEGIN:STANDARD
TZOFFSETFROM:+0000
TZOFFSETTO:+0000
TZNAME:UTC
DTSTART:20160101T000000
END:STANDARD
END:VTIMEZONE
BEGIN:VEVENT
DTSTART;VALUE=DATE:20171219
DTEND;VALUE=DATE:20171221
DTSTAMP:20260420T142908
CREATED:20171215T190448Z
LAST-MODIFIED:20171215T190448Z
UID:1923-1513641600-1513814399@visitcentralfloridasports.com
SUMMARY:Holiday Inn Express Classic
DESCRIPTION:A men’s basketball tournament held at Warner University.
URL:https://visitcentralfloridasports.com/event/holiday-inn-express-classic/
LOCATION:Warner University\, 13895 Highway 27\, Lake Wales\, FL\, 33859\, United States
CATEGORIES:Basketball,Collegiate
END:VEVENT
END:VCALENDAR